{"text_format":"1","workbook":"xlsx","n_sheets":8,"sheets":["Team Data","PY Participation","Additional Team Member Form","Additional Team Member Form2","Additional Team Member Form3","Additional Team Member Form4","Additional Team Member Form5","Additional Team Member Form6"],"not_rendered":{"charts":0,"images":0,"macros":0,"external_links":0,"defined_names":3,"comments":0,"pivot_tables":0},"unopened":[],"bounds":{"document_bytes":16777216,"sheet_cells":100000,"rows_first":2000,"rows_last":500,"rows_between":2000,"halvings":0,"cell_chars":16384,"cell_head_chars":4096},"cells_cut":0,"cells_raw":0,"read":"whole","date_system":"1900"}

{"sheet":"Team Data","index":0,"n_rows":35,"n_cols":12,"rows_kept":35,"cut":false,"hidden":false,"merged":[[34,0,34,9],[17,3,17,5],[16,3,16,5],[0,0,0,9],[1,0,1,9],[2,0,2,1],[14,3,15,3],[14,5,15,5],[14,9,15,9],[5,0,5,1],[9,0,9,1],[13,0,13,1],[14,0,15,1],[3,1,3,9],[6,0,6,1],[7,0,7,1],[8,0,8,1],[14,7,15,7]]}
["LAPRAAC"]
["BUDGET REQUEST FORM - Team Data"]
["Today's Date:",null,null,{"$f":"+NOW()","v":"2022-03-03T14:57:23.750"},null,"Fiscal Year (July - June):",null,null,null,"2022-2023",null,"<--YELLOW cells must be completed"]
[null,"Team Profile"]
[null,null,null,"Team Captain:",null,"Co-Captain #1:",null,"Co-Captain #2:",null,"Co-Captain #3:"]
["Name (Last, First)"]
["Contact Phone #"]
["Alternate Phone #"]
["e-mail address:"]
["Address"]
[null,"Street #"]
[null,"City, State"]
[null,"Zipcode"]
["Division"]
["Team Name:",null,null,null,null,"Sport:"]
[]
[null,null,null,"Team Member Data"]
[null,null,null,"(Include Captain & Co-Captain's Names)"]
[null,"Last Name",null,"First Name",null,"Serial #",null,"Personal E-mail",null,"Division"]
["1)",null,",",null,null,null,null,null,null,null,null,{"$f":"COUNTA(B20:B34,F20:F34,D20:D34,J20:J34, H20:H34)","v":0}]
["2)",null,","]
["3)",null,","]
["4)",null,","]
["5)",null,","]
["6)",null,","]
["7)",null,","]
["8)",null,","]
["9)",null,","]
["10)",null,","]
["11)",null,","]
["12)",null,","]
["13)",null,","]
["14)",null,","]
["15)",null,","]
["For a additional team members, please complete \"Additional Team Member Form\""]

{"sheet":"PY Participation","index":1,"n_rows":28,"n_cols":11,"rows_kept":28,"cut":false,"hidden":false,"merged":[[21,0,21,8],[22,0,22,8],[27,0,27,8],[23,0,23,8],[24,0,24,8],[25,0,25,8],[26,0,26,8],[20,0,20,8],[9,0,9,8],[10,0,10,8],[11,0,11,8],[12,0,12,8],[13,0,13,8],[14,0,14,8],[15,0,15,8],[16,0,16,8],[17,0,17,8],[18,0,18,8],[19,0,19,8],[5,0,5,8],[6,0,6,8],[7,0,7,8],[8,0,8,8],[0,0,0,8],[1,0,1,8],[2,0,2,1],[2,7,2,8],[3,0,3,1],[3,7,3,8],[4,0,4,4],[4,5,4,6]]}
["LAPRAAC"]
["BUDGET REQUEST FORM - Past Year Participation"]
[{"$f":"+'Team Data'!A3","v":"Today's Date:"},null,{"$f":"+'Team Data'!D3","v":"2022-03-03T14:57:23.750"},null,null,{"$f":"+'Team Data'!D5","v":"Team Captain:"},null,{"$f":"+IF('Team Data'!D6=0,\"\",'Team Data'!D6)","v":""}]
[{"$f":"+'Team Data'!F3","v":"Fiscal Year (July - June):"},null,{"$f":"IF(+'Team Data'!J3=0,\"\",'Team Data'!J3)","v":"2022-2023"},null,null,{"$f":"+'Team Data'!F5","v":"Co-Captain #1:"},null,{"$f":"+IF('Team Data'!F6=0,\"\",'Team Data'!F6)","v":""}]
[{"$f":"+'Team Data'!A15:B15","v":"Team Name:"},null,null,null,null,{"$f":"+IF('Team Data'!D15=0,\"\",'Team Data'!D15)","v":""}]
["Please list all of your prior years events, results and support for LAPRAAC and its events below"]
[null,null,null,null,null,null,null,null,null,null,"<--All Yellow Cells Must Have Data"]
[null,null,null,null,null,null,null,null,null,null,{"$f":"COUNTA(A7:I27)","v":0}]
[]
[]
[]
[]
[]
[]
[]
[]
[]
[]
[]
[]
[]
[]
[]
[]
[]
[]
[]
["Lock"]

{"sheet":"Additional Team Member Form","index":2,"n_rows":35,"n_cols":18,"rows_kept":35,"cut":false,"hidden":false,"merged":[[34,0,34,9],[14,5,15,5],[14,9,15,9],[16,3,16,5],[17,3,17,5],[14,7,15,7],[14,3,15,3],[7,0,7,1],[8,0,8,1],[9,0,9,1],[13,0,13,1],[14,0,15,1],[6,0,6,1],[0,0,0,9],[1,0,1,9],[2,0,2,1],[3,1,3,9],[5,0,5,1]]}
["LAPRAAC"]
["BUDGET REQUEST FORM - Team Data"]
["Today's Date:",null,null,{"$f":"+NOW()","v":"2022-03-03T14:57:23.750"},null,"Fiscal Year (July - June):",null,null,null,{"$f":"+IF('Team Data'!J3=0,\"\",'Team Data'!J3)","v":"2022-2023"}]
[null,"Team Profile"]
[null,null,null,"Team Captain:",null,"Co-Captain #1:",null,"Co-Captain #2:",null,"Co-Captain #3:"]
["Name (Last, First)",null,null,{"$f":"+IF(L6>0,'Team Data'!D6,\"\")","v":""},null,{"$f":"+IF(N6>0,'Team Data'!F6,\"\")","v":""},null,{"$f":"+IF(P6>0,'Team Data'!H6,\"\")","v":""},null,{"$f":"+IF(R6>0,'Team Data'!J6,\"\")","v":""},null,{"$f":"+COUNTA('Team Data'!D6)","v":0},null,{"$f":"+COUNTA('Team Data'!F6)","v":0},null,{"$f":"+COUNTA('Team Data'!H6)","v":0},null,{"$f":"+COUNTA('Team Data'!J6)","v":0}]
["Contact Phone #",null,null,{"$f":"+IF(L7>0,'Team Data'!D7,\"\")","v":""},null,{"$f":"+IF(N7>0,'Team Data'!F7,\"\")","v":""},null,{"$f":"+IF(P7>0,'Team Data'!H7,\"\")","v":""},null,{"$f":"+IF(R7>0,'Team Data'!J7,\"\")","v":""},null,{"$f":"+COUNTA('Team Data'!D7)","v":0},null,{"$f":"+COUNTA('Team Data'!F7)","v":0},null,{"$f":"+COUNTA('Team Data'!H7)","v":0},null,{"$f":"+COUNTA('Team Data'!J7)","v":0}]
["Alternate Phone #",null,null,{"$f":"+IF(L8>0,'Team Data'!D8,\"\")","v":""},null,{"$f":"+IF(N8>0,'Team Data'!F8,\"\")","v":""},null,{"$f":"+IF(P8>0,'Team Data'!H8,\"\")","v":""},null,{"$f":"+IF(R8>0,'Team Data'!J8,\"\")","v":""},null,{"$f":"+COUNTA('Team Data'!D8)","v":0},null,{"$f":"+COUNTA('Team Data'!F8)","v":0},null,{"$f":"+COUNTA('Team Data'!H8)","v":0},null,{"$f":"+COUNTA('Team Data'!J8)","v":0}]
["e-mail address:",null,null,{"$f":"+IF(L9>0,'Team Data'!D9,\"\")","v":""},null,{"$f":"+IF(N9>0,'Team Data'!F9,\"\")","v":""},null,{"$f":"+IF(P9>0,'Team Data'!H9,\"\")","v":""},null,{"$f":"+IF(R9>0,'Team Data'!J9,\"\")","v":""},null,{"$f":"+COUNTA('Team Data'!D9)","v":0},null,{"$f":"+COUNTA('Team Data'!F9)","v":0},null,{"$f":"+COUNTA('Team Data'!H9)","v":0},null,{"$f":"+COUNTA('Team Data'!J9)","v":0}]
["Address"]
[null,"Street #",null,{"$f":"+IF(L11>0,'Team Data'!D11,\"\")","v":""},null,{"$f":"+IF(N11>0,'Team Data'!F11,\"\")","v":""},null,{"$f":"+IF(P11>0,'Team Data'!H11,\"\")","v":""},null,{"$f":"+IF(R11>0,'Team Data'!J11,\"\")","v":""},null,{"$f":"+COUNTA('Team Data'!D11)","v":0},null,{"$f":"+COUNTA('Team Data'!F11)","v":0},null,{"$f":"+COUNTA('Team Data'!H11)","v":0},null,{"$f":"+COUNTA('Team Data'!J11)","v":0}]
[null,"City, State",null,{"$f":"+IF(L12>0,'Team Data'!D12,\"\")","v":""},null,{"$f":"+IF(N12>0,'Team Data'!F12,\"\")","v":""},null,{"$f":"+IF(P12>0,'Team Data'!H12,\"\")","v":""},null,{"$f":"+IF(R12>0,'Team Data'!J12,\"\")","v":""},null,{"$f":"+COUNTA('Team Data'!D12)","v":0},null,{"$f":"+COUNTA('Team Data'!F12)","v":0},null,{"$f":"+COUNTA('Team Data'!H12)","v":0},null,{"$f":"+COUNTA('Team Data'!J12)","v":0}]
[null,"Zipcode",null,{"$f":"+IF(L13>0,'Team Data'!D13,\"\")","v":""},null,{"$f":"+IF(N13>0,'Team Data'!F13,\"\")","v":""},null,{"$f":"+IF(P13>0,'Team Data'!H13,\"\")","v":""},null,{"$f":"+IF(R13>0,'Team Data'!J13,\"\")","v":""},null,{"$f":"+COUNTA('Team Data'!D13)","v":0},null,{"$f":"+COUNTA('Team Data'!F13)","v":0},null,{"$f":"+COUNTA('Team Data'!H13)","v":0},null,{"$f":"+COUNTA('Team Data'!J13)","v":0}]
["Division",null,null,{"$f":"+IF(L14>0,'Team Data'!D14,\"\")","v":""},null,{"$f":"+IF(N14>0,'Team Data'!F14,\"\")","v":""},null,{"$f":"+IF(P14>0,'Team Data'!H14,\"\")","v":""},null,{"$f":"+IF(R14>0,'Team Data'!J14,\"\")","v":""},null,{"$f":"+COUNTA('Team Data'!D14)","v":0},null,{"$f":"+COUNTA('Team Data'!F14)","v":0},null,{"$f":"+COUNTA('Team Data'!H14)","v":0},null,{"$f":"+COUNTA('Team Data'!J14)","v":0}]
["Team Name:",null,null,{"$f":"+IF(L16>0,'Team Data'!D15,\"\")","v":""},null,"Sport:",null,{"$f":"+IF(P16>0,'Team Data'!H15,\"\")","v":""}]
[null,null,null,{"$f":"+IF(L16>0,'Team Data'!D16,\"\")","v":""},null,null,null,{"$f":"+IF(P16>0,'Team Data'!H16,\"\")","v":""},null,null,null,{"$f":"+COUNTA('Team Data'!D15:D16)","v":0},null,null,null,{"$f":"+COUNTA('Team Data'!H15:H16)","v":0}]
[null,null,null,"Team Member Data"]
[null,null,null,"(Include Captain & Co-Captian's Names)"]
[null,"Last Name",null,"First Name",null,"Serial #",null,"Personal E-mail",null,"Division"]
["1)",null,",",null,null,null,null,null,null,null,null,{"$f":"COUNTA(B20:B34,F20:F34,D20:D34,J20:J34)","v":0}]
["2)",null,","]
["3)",null,","]
["4)",null,","]
["5)",null,","]
["6)",null,","]
["7)",null,","]
["8)",null,","]
["9)",null,","]
["10)",null,","]
["11)",null,","]
["12)",null,","]
["13)",null,","]
["14)",null,","]
["15)",null,","]
["For a additional team members, please attach a list of to this form."]

{"sheet":"Additional Team Member Form2","index":3,"n_rows":35,"n_cols":18,"rows_kept":35,"cut":false,"hidden":false,"merged":[[0,0,0,9],[1,0,1,9],[2,0,2,1],[3,1,3,9],[9,0,9,1],[13,0,13,1],[14,0,15,1],[14,3,15,3],[5,0,5,1],[6,0,6,1],[7,0,7,1],[8,0,8,1],[17,3,17,5],[34,0,34,9],[14,5,15,5],[14,7,15,7],[14,9,15,9],[16,3,16,5]]}
["LAPRAAC"]
["BUDGET REQUEST FORM - Team Data"]
["Today's Date:",null,null,{"$f":"+NOW()","v":"2022-03-03T14:57:23.750"},null,"Fiscal Year (July - June):",null,null,null,{"$f":"+IF('Team Data'!J3=0,\"\",'Team Data'!J3)","v":"2022-2023"}]
[null,"Team Profile"]
[null,null,null,"Team Captain:",null,"Co-Captain #1:",null,"Co-Captain #2:",null,"Co-Captain #3:"]
["Name (Last, First)",null,null,{"$f":"+IF(L6>0,'Team Data'!D6,\"\")","v":""},null,{"$f":"+IF(N6>0,'Team Data'!F6,\"\")","v":""},null,{"$f":"+IF(P6>0,'Team Data'!H6,\"\")","v":""},null,{"$f":"+IF(R6>0,'Team Data'!J6,\"\")","v":""},null,{"$f":"+COUNTA('Team Data'!D6)","v":0},null,{"$f":"+COUNTA('Team Data'!F6)","v":0},null,{"$f":"+COUNTA('Team Data'!H6)","v":0},null,{"$f":"+COUNTA('Team Data'!J6)","v":0}]
["Contact Phone #",null,null,{"$f":"+IF(L7>0,'Team Data'!D7,\"\")","v":""},null,{"$f":"+IF(N7>0,'Team Data'!F7,\"\")","v":""},null,{"$f":"+IF(P7>0,'Team Data'!H7,\"\")","v":""},null,{"$f":"+IF(R7>0,'Team Data'!J7,\"\")","v":""},null,{"$f":"+COUNTA('Team Data'!D7)","v":0},null,{"$f":"+COUNTA('Team Data'!F7)","v":0},null,{"$f":"+COUNTA('Team Data'!H7)","v":0},null,{"$f":"+COUNTA('Team Data'!J7)","v":0}]
["Alternate Phone #",null,null,{"$f":"+IF(L8>0,'Team Data'!D8,\"\")","v":""},null,{"$f":"+IF(N8>0,'Team Data'!F8,\"\")","v":""},null,{"$f":"+IF(P8>0,'Team Data'!H8,\"\")","v":""},null,{"$f":"+IF(R8>0,'Team Data'!J8,\"\")","v":""},null,{"$f":"+COUNTA('Team Data'!D8)","v":0},null,{"$f":"+COUNTA('Team Data'!F8)","v":0},null,{"$f":"+COUNTA('Team Data'!H8)","v":0},null,{"$f":"+COUNTA('Team Data'!J8)","v":0}]
["e-mail address:",null,null,{"$f":"+IF(L9>0,'Team Data'!D9,\"\")","v":""},null,{"$f":"+IF(N9>0,'Team Data'!F9,\"\")","v":""},null,{"$f":"+IF(P9>0,'Team Data'!H9,\"\")","v":""},null,{"$f":"+IF(R9>0,'Team Data'!J9,\"\")","v":""},null,{"$f":"+COUNTA('Team Data'!D9)","v":0},null,{"$f":"+COUNTA('Team Data'!F9)","v":0},null,{"$f":"+COUNTA('Team Data'!H9)","v":0},null,{"$f":"+COUNTA('Team Data'!J9)","v":0}]
["Address"]
[null,"Street #",null,{"$f":"+IF(L11>0,'Team Data'!D11,\"\")","v":""},null,{"$f":"+IF(N11>0,'Team Data'!F11,\"\")","v":""},null,{"$f":"+IF(P11>0,'Team Data'!H11,\"\")","v":""},null,{"$f":"+IF(R11>0,'Team Data'!J11,\"\")","v":""},null,{"$f":"+COUNTA('Team Data'!D11)","v":0},null,{"$f":"+COUNTA('Team Data'!F11)","v":0},null,{"$f":"+COUNTA('Team Data'!H11)","v":0},null,{"$f":"+COUNTA('Team Data'!J11)","v":0}]
[null,"City, State",null,{"$f":"+IF(L12>0,'Team Data'!D12,\"\")","v":""},null,{"$f":"+IF(N12>0,'Team Data'!F12,\"\")","v":""},null,{"$f":"+IF(P12>0,'Team Data'!H12,\"\")","v":""},null,{"$f":"+IF(R12>0,'Team Data'!J12,\"\")","v":""},null,{"$f":"+COUNTA('Team Data'!D12)","v":0},null,{"$f":"+COUNTA('Team Data'!F12)","v":0},null,{"$f":"+COUNTA('Team Data'!H12)","v":0},null,{"$f":"+COUNTA('Team Data'!J12)","v":0}]
[null,"Zipcode",null,{"$f":"+IF(L13>0,'Team Data'!D13,\"\")","v":""},null,{"$f":"+IF(N13>0,'Team Data'!F13,\"\")","v":""},null,{"$f":"+IF(P13>0,'Team Data'!H13,\"\")","v":""},null,{"$f":"+IF(R13>0,'Team Data'!J13,\"\")","v":""},null,{"$f":"+COUNTA('Team Data'!D13)","v":0},null,{"$f":"+COUNTA('Team Data'!F13)","v":0},null,{"$f":"+COUNTA('Team Data'!H13)","v":0},null,{"$f":"+COUNTA('Team Data'!J13)","v":0}]
["Division",null,null,{"$f":"+IF(L14>0,'Team Data'!D14,\"\")","v":""},null,{"$f":"+IF(N14>0,'Team Data'!F14,\"\")","v":""},null,{"$f":"+IF(P14>0,'Team Data'!H14,\"\")","v":""},null,{"$f":"+IF(R14>0,'Team Data'!J14,\"\")","v":""},null,{"$f":"+COUNTA('Team Data'!D14)","v":0},null,{"$f":"+COUNTA('Team Data'!F14)","v":0},null,{"$f":"+COUNTA('Team Data'!H14)","v":0},null,{"$f":"+COUNTA('Team Data'!J14)","v":0}]
["Team Name:",null,null,{"$f":"+IF(L16>0,'Team Data'!D15,\"\")","v":""},null,"Sport:",null,{"$f":"+IF(P16>0,'Team Data'!H15,\"\")","v":""}]
[null,null,null,{"$f":"+IF(L16>0,'Team Data'!D16,\"\")","v":""},null,null,null,{"$f":"+IF(P16>0,'Team Data'!H16,\"\")","v":""},null,null,null,{"$f":"+COUNTA('Team Data'!D15:D16)","v":0},null,null,null,{"$f":"+COUNTA('Team Data'!H15:H16)","v":0}]
[null,null,null,"Team Member Data"]
[null,null,null,"(Include Captain & Co-Captian's Names)"]
[null,"Last Name",null,"First Name",null,"Serial #",null,"Personal E-mail",null,"Division"]
["1)",null,",",null,null,null,null,null,null,null,null,{"$f":"COUNTA(B20:B34,F20:F34,D20:D34,J20:J34)","v":0}]
["2)",null,","]
["3)",null,","]
["4)",null,","]
["5)",null,","]
["6)",null,","]
["7)",null,","]
["8)",null,","]
["9)",null,","]
["10)",null,","]
["11)",null,","]
["12)",null,","]
["13)",null,","]
["14)",null,","]
["15)",null,","]
["For a additional team members, please attach a list of to this form."]

{"sheet":"Additional Team Member Form3","index":4,"n_rows":35,"n_cols":18,"rows_kept":35,"cut":false,"hidden":false,"merged":[[0,0,0,9],[1,0,1,9],[2,0,2,1],[3,1,3,9],[9,0,9,1],[13,0,13,1],[14,0,15,1],[14,3,15,3],[5,0,5,1],[6,0,6,1],[7,0,7,1],[8,0,8,1],[17,3,17,5],[34,0,34,9],[14,5,15,5],[14,7,15,7],[14,9,15,9],[16,3,16,5]]}
["LAPRAAC"]
["BUDGET REQUEST FORM - Team Data"]
["Today's Date:",null,null,{"$f":"+NOW()","v":"2022-03-03T14:57:23.750"},null,"Fiscal Year (July - June):",null,null,null,{"$f":"+IF('Team Data'!J3=0,\"\",'Team Data'!J3)","v":"2022-2023"}]
[null,"Team Profile"]
[null,null,null,"Team Captain:",null,"Co-Captain #1:",null,"Co-Captain #2:",null,"Co-Captain #3:"]
["Name (Last, First)",null,null,{"$f":"+IF(L6>0,'Team Data'!D6,\"\")","v":""},null,{"$f":"+IF(N6>0,'Team Data'!F6,\"\")","v":""},null,{"$f":"+IF(P6>0,'Team Data'!H6,\"\")","v":""},null,{"$f":"+IF(R6>0,'Team Data'!J6,\"\")","v":""},null,{"$f":"+COUNTA('Team Data'!D6)","v":0},null,{"$f":"+COUNTA('Team Data'!F6)","v":0},null,{"$f":"+COUNTA('Team Data'!H6)","v":0},null,{"$f":"+COUNTA('Team Data'!J6)","v":0}]
["Contact Phone #",null,null,{"$f":"+IF(L7>0,'Team Data'!D7,\"\")","v":""},null,{"$f":"+IF(N7>0,'Team Data'!F7,\"\")","v":""},null,{"$f":"+IF(P7>0,'Team Data'!H7,\"\")","v":""},null,{"$f":"+IF(R7>0,'Team Data'!J7,\"\")","v":""},null,{"$f":"+COUNTA('Team Data'!D7)","v":0},null,{"$f":"+COUNTA('Team Data'!F7)","v":0},null,{"$f":"+COUNTA('Team Data'!H7)","v":0},null,{"$f":"+COUNTA('Team Data'!J7)","v":0}]
["Alternate Phone #",null,null,{"$f":"+IF(L8>0,'Team Data'!D8,\"\")","v":""},null,{"$f":"+IF(N8>0,'Team Data'!F8,\"\")","v":""},null,{"$f":"+IF(P8>0,'Team Data'!H8,\"\")","v":""},null,{"$f":"+IF(R8>0,'Team Data'!J8,\"\")","v":""},null,{"$f":"+COUNTA('Team Data'!D8)","v":0},null,{"$f":"+COUNTA('Team Data'!F8)","v":0},null,{"$f":"+COUNTA('Team Data'!H8)","v":0},null,{"$f":"+COUNTA('Team Data'!J8)","v":0}]
["e-mail address:",null,null,{"$f":"+IF(L9>0,'Team Data'!D9,\"\")","v":""},null,{"$f":"+IF(N9>0,'Team Data'!F9,\"\")","v":""},null,{"$f":"+IF(P9>0,'Team Data'!H9,\"\")","v":""},null,{"$f":"+IF(R9>0,'Team Data'!J9,\"\")","v":""},null,{"$f":"+COUNTA('Team Data'!D9)","v":0},null,{"$f":"+COUNTA('Team Data'!F9)","v":0},null,{"$f":"+COUNTA('Team Data'!H9)","v":0},null,{"$f":"+COUNTA('Team Data'!J9)","v":0}]
["Address"]
[null,"Street #",null,{"$f":"+IF(L11>0,'Team Data'!D11,\"\")","v":""},null,{"$f":"+IF(N11>0,'Team Data'!F11,\"\")","v":""},null,{"$f":"+IF(P11>0,'Team Data'!H11,\"\")","v":""},null,{"$f":"+IF(R11>0,'Team Data'!J11,\"\")","v":""},null,{"$f":"+COUNTA('Team Data'!D11)","v":0},null,{"$f":"+COUNTA('Team Data'!F11)","v":0},null,{"$f":"+COUNTA('Team Data'!H11)","v":0},null,{"$f":"+COUNTA('Team Data'!J11)","v":0}]
[null,"City, State",null,{"$f":"+IF(L12>0,'Team Data'!D12,\"\")","v":""},null,{"$f":"+IF(N12>0,'Team Data'!F12,\"\")","v":""},null,{"$f":"+IF(P12>0,'Team Data'!H12,\"\")","v":""},null,{"$f":"+IF(R12>0,'Team Data'!J12,\"\")","v":""},null,{"$f":"+COUNTA('Team Data'!D12)","v":0},null,{"$f":"+COUNTA('Team Data'!F12)","v":0},null,{"$f":"+COUNTA('Team Data'!H12)","v":0},null,{"$f":"+COUNTA('Team Data'!J12)","v":0}]
[null,"Zipcode",null,{"$f":"+IF(L13>0,'Team Data'!D13,\"\")","v":""},null,{"$f":"+IF(N13>0,'Team Data'!F13,\"\")","v":""},null,{"$f":"+IF(P13>0,'Team Data'!H13,\"\")","v":""},null,{"$f":"+IF(R13>0,'Team Data'!J13,\"\")","v":""},null,{"$f":"+COUNTA('Team Data'!D13)","v":0},null,{"$f":"+COUNTA('Team Data'!F13)","v":0},null,{"$f":"+COUNTA('Team Data'!H13)","v":0},null,{"$f":"+COUNTA('Team Data'!J13)","v":0}]
["Division",null,null,{"$f":"+IF(L14>0,'Team Data'!D14,\"\")","v":""},null,{"$f":"+IF(N14>0,'Team Data'!F14,\"\")","v":""},null,{"$f":"+IF(P14>0,'Team Data'!H14,\"\")","v":""},null,{"$f":"+IF(R14>0,'Team Data'!J14,\"\")","v":""},null,{"$f":"+COUNTA('Team Data'!D14)","v":0},null,{"$f":"+COUNTA('Team Data'!F14)","v":0},null,{"$f":"+COUNTA('Team Data'!H14)","v":0},null,{"$f":"+COUNTA('Team Data'!J14)","v":0}]
["Team Name:",null,null,{"$f":"+IF(L16>0,'Team Data'!D15,\"\")","v":""},null,"Sport:",null,{"$f":"+IF(P16>0,'Team Data'!H15,\"\")","v":""}]
[null,null,null,{"$f":"+IF(L16>0,'Team Data'!D16,\"\")","v":""},null,null,null,{"$f":"+IF(P16>0,'Team Data'!H16,\"\")","v":""},null,null,null,{"$f":"+COUNTA('Team Data'!D15:D16)","v":0},null,null,null,{"$f":"+COUNTA('Team Data'!H15:H16)","v":0}]
[null,null,null,"Team Member Data"]
[null,null,null,"(Include Captain & Co-Captian's Names)"]
[null,"Last Name",null,"First Name",null,"Serial #",null,"Personal E-mail",null,"Division"]
["1)",null,",",null,null,null,null,null,null,null,null,{"$f":"COUNTA(B20:B34,F20:F34,D20:D34,J20:J34)","v":0}]
["2)",null,","]
["3)",null,","]
["4)",null,","]
["5)",null,","]
["6)",null,","]
["7)",null,","]
["8)",null,","]
["9)",null,","]
["10)",null,","]
["11)",null,","]
["12)",null,","]
["13)",null,","]
["14)",null,","]
["15)",null,","]
["For a additional team members, please attach a list of to this form."]

{"sheet":"Additional Team Member Form4","index":5,"n_rows":35,"n_cols":18,"rows_kept":35,"cut":false,"hidden":false,"merged":[[0,0,0,9],[1,0,1,9],[2,0,2,1],[3,1,3,9],[9,0,9,1],[13,0,13,1],[14,0,15,1],[14,3,15,3],[5,0,5,1],[6,0,6,1],[7,0,7,1],[8,0,8,1],[17,3,17,5],[34,0,34,9],[14,5,15,5],[14,7,15,7],[14,9,15,9],[16,3,16,5]]}
["LAPRAAC"]
["BUDGET REQUEST FORM - Team Data"]
["Today's Date:",null,null,{"$f":"+NOW()","v":"2022-03-03T14:57:23.750"},null,"Fiscal Year (July - June):",null,null,null,{"$f":"+IF('Team Data'!J3=0,\"\",'Team Data'!J3)","v":"2022-2023"}]
[null,"Team Profile"]
[null,null,null,"Team Captain:",null,"Co-Captain #1:",null,"Co-Captain #2:",null,"Co-Captain #3:"]
["Name (Last, First)",null,null,{"$f":"+IF(L6>0,'Team Data'!D6,\"\")","v":""},null,{"$f":"+IF(N6>0,'Team Data'!F6,\"\")","v":""},null,{"$f":"+IF(P6>0,'Team Data'!H6,\"\")","v":""},null,{"$f":"+IF(R6>0,'Team Data'!J6,\"\")","v":""},null,{"$f":"+COUNTA('Team Data'!D6)","v":0},null,{"$f":"+COUNTA('Team Data'!F6)","v":0},null,{"$f":"+COUNTA('Team Data'!H6)","v":0},null,{"$f":"+COUNTA('Team Data'!J6)","v":0}]
["Contact Phone #",null,null,{"$f":"+IF(L7>0,'Team Data'!D7,\"\")","v":""},null,{"$f":"+IF(N7>0,'Team Data'!F7,\"\")","v":""},null,{"$f":"+IF(P7>0,'Team Data'!H7,\"\")","v":""},null,{"$f":"+IF(R7>0,'Team Data'!J7,\"\")","v":""},null,{"$f":"+COUNTA('Team Data'!D7)","v":0},null,{"$f":"+COUNTA('Team Data'!F7)","v":0},null,{"$f":"+COUNTA('Team Data'!H7)","v":0},null,{"$f":"+COUNTA('Team Data'!J7)","v":0}]
["Alternate Phone #",null,null,{"$f":"+IF(L8>0,'Team Data'!D8,\"\")","v":""},null,{"$f":"+IF(N8>0,'Team Data'!F8,\"\")","v":""},null,{"$f":"+IF(P8>0,'Team Data'!H8,\"\")","v":""},null,{"$f":"+IF(R8>0,'Team Data'!J8,\"\")","v":""},null,{"$f":"+COUNTA('Team Data'!D8)","v":0},null,{"$f":"+COUNTA('Team Data'!F8)","v":0},null,{"$f":"+COUNTA('Team Data'!H8)","v":0},null,{"$f":"+COUNTA('Team Data'!J8)","v":0}]
["e-mail address:",null,null,{"$f":"+IF(L9>0,'Team Data'!D9,\"\")","v":""},null,{"$f":"+IF(N9>0,'Team Data'!F9,\"\")","v":""},null,{"$f":"+IF(P9>0,'Team Data'!H9,\"\")","v":""},null,{"$f":"+IF(R9>0,'Team Data'!J9,\"\")","v":""},null,{"$f":"+COUNTA('Team Data'!D9)","v":0},null,{"$f":"+COUNTA('Team Data'!F9)","v":0},null,{"$f":"+COUNTA('Team Data'!H9)","v":0},null,{"$f":"+COUNTA('Team Data'!J9)","v":0}]
["Address"]
[null,"Street #",null,{"$f":"+IF(L11>0,'Team Data'!D11,\"\")","v":""},null,{"$f":"+IF(N11>0,'Team Data'!F11,\"\")","v":""},null,{"$f":"+IF(P11>0,'Team Data'!H11,\"\")","v":""},null,{"$f":"+IF(R11>0,'Team Data'!J11,\"\")","v":""},null,{"$f":"+COUNTA('Team Data'!D11)","v":0},null,{"$f":"+COUNTA('Team Data'!F11)","v":0},null,{"$f":"+COUNTA('Team Data'!H11)","v":0},null,{"$f":"+COUNTA('Team Data'!J11)","v":0}]
[null,"City, State",null,{"$f":"+IF(L12>0,'Team Data'!D12,\"\")","v":""},null,{"$f":"+IF(N12>0,'Team Data'!F12,\"\")","v":""},null,{"$f":"+IF(P12>0,'Team Data'!H12,\"\")","v":""},null,{"$f":"+IF(R12>0,'Team Data'!J12,\"\")","v":""},null,{"$f":"+COUNTA('Team Data'!D12)","v":0},null,{"$f":"+COUNTA('Team Data'!F12)","v":0},null,{"$f":"+COUNTA('Team Data'!H12)","v":0},null,{"$f":"+COUNTA('Team Data'!J12)","v":0}]
[null,"Zipcode",null,{"$f":"+IF(L13>0,'Team Data'!D13,\"\")","v":""},null,{"$f":"+IF(N13>0,'Team Data'!F13,\"\")","v":""},null,{"$f":"+IF(P13>0,'Team Data'!H13,\"\")","v":""},null,{"$f":"+IF(R13>0,'Team Data'!J13,\"\")","v":""},null,{"$f":"+COUNTA('Team Data'!D13)","v":0},null,{"$f":"+COUNTA('Team Data'!F13)","v":0},null,{"$f":"+COUNTA('Team Data'!H13)","v":0},null,{"$f":"+COUNTA('Team Data'!J13)","v":0}]
["Division",null,null,{"$f":"+IF(L14>0,'Team Data'!D14,\"\")","v":""},null,{"$f":"+IF(N14>0,'Team Data'!F14,\"\")","v":""},null,{"$f":"+IF(P14>0,'Team Data'!H14,\"\")","v":""},null,{"$f":"+IF(R14>0,'Team Data'!J14,\"\")","v":""},null,{"$f":"+COUNTA('Team Data'!D14)","v":0},null,{"$f":"+COUNTA('Team Data'!F14)","v":0},null,{"$f":"+COUNTA('Team Data'!H14)","v":0},null,{"$f":"+COUNTA('Team Data'!J14)","v":0}]
["Team Name:",null,null,{"$f":"+IF(L16>0,'Team Data'!D15,\"\")","v":""},null,"Sport:",null,{"$f":"+IF(P16>0,'Team Data'!H15,\"\")","v":""}]
[null,null,null,{"$f":"+IF(L16>0,'Team Data'!D16,\"\")","v":""},null,null,null,{"$f":"+IF(P16>0,'Team Data'!H16,\"\")","v":""},null,null,null,{"$f":"+COUNTA('Team Data'!D15:D16)","v":0},null,null,null,{"$f":"+COUNTA('Team Data'!H15:H16)","v":0}]
[null,null,null,"Team Member Data"]
[null,null,null,"(Include Captain & Co-Captian's Names)"]
[null,"Last Name",null,"First Name",null,"Serial #",null,"Personal E-mail",null,"Division"]
["1)",null,",",null,null,null,null,null,null,null,null,{"$f":"COUNTA(B20:B34,F20:F34,D20:D34,J20:J34)","v":0}]
["2)",null,","]
["3)",null,","]
["4)",null,","]
["5)",null,","]
["6)",null,","]
["7)",null,","]
["8)",null,","]
["9)",null,","]
["10)",null,","]
["11)",null,","]
["12)",null,","]
["13)",null,","]
["14)",null,","]
["15)",null,","]
["For a additional team members, please attach a list of to this form."]

{"sheet":"Additional Team Member Form5","index":6,"n_rows":35,"n_cols":18,"rows_kept":35,"cut":false,"hidden":false,"merged":[[0,0,0,9],[1,0,1,9],[2,0,2,1],[3,1,3,9],[9,0,9,1],[13,0,13,1],[14,0,15,1],[14,3,15,3],[5,0,5,1],[6,0,6,1],[7,0,7,1],[8,0,8,1],[17,3,17,5],[34,0,34,9],[14,5,15,5],[14,7,15,7],[14,9,15,9],[16,3,16,5]]}
["LAPRAAC"]
["BUDGET REQUEST FORM - Team Data"]
["Today's Date:",null,null,{"$f":"+NOW()","v":"2022-03-03T14:57:23.750"},null,"Fiscal Year (July - June):",null,null,null,{"$f":"+IF('Team Data'!J3=0,\"\",'Team Data'!J3)","v":"2022-2023"}]
[null,"Team Profile"]
[null,null,null,"Team Captain:",null,"Co-Captain #1:",null,"Co-Captain #2:",null,"Co-Captain #3:"]
["Name (Last, First)",null,null,{"$f":"+IF(L6>0,'Team Data'!D6,\"\")","v":""},null,{"$f":"+IF(N6>0,'Team Data'!F6,\"\")","v":""},null,{"$f":"+IF(P6>0,'Team Data'!H6,\"\")","v":""},null,{"$f":"+IF(R6>0,'Team Data'!J6,\"\")","v":""},null,{"$f":"+COUNTA('Team Data'!D6)","v":0},null,{"$f":"+COUNTA('Team Data'!F6)","v":0},null,{"$f":"+COUNTA('Team Data'!H6)","v":0},null,{"$f":"+COUNTA('Team Data'!J6)","v":0}]
["Contact Phone #",null,null,{"$f":"+IF(L7>0,'Team Data'!D7,\"\")","v":""},null,{"$f":"+IF(N7>0,'Team Data'!F7,\"\")","v":""},null,{"$f":"+IF(P7>0,'Team Data'!H7,\"\")","v":""},null,{"$f":"+IF(R7>0,'Team Data'!J7,\"\")","v":""},null,{"$f":"+COUNTA('Team Data'!D7)","v":0},null,{"$f":"+COUNTA('Team Data'!F7)","v":0},null,{"$f":"+COUNTA('Team Data'!H7)","v":0},null,{"$f":"+COUNTA('Team Data'!J7)","v":0}]
["Alternate Phone #",null,null,{"$f":"+IF(L8>0,'Team Data'!D8,\"\")","v":""},null,{"$f":"+IF(N8>0,'Team Data'!F8,\"\")","v":""},null,{"$f":"+IF(P8>0,'Team Data'!H8,\"\")","v":""},null,{"$f":"+IF(R8>0,'Team Data'!J8,\"\")","v":""},null,{"$f":"+COUNTA('Team Data'!D8)","v":0},null,{"$f":"+COUNTA('Team Data'!F8)","v":0},null,{"$f":"+COUNTA('Team Data'!H8)","v":0},null,{"$f":"+COUNTA('Team Data'!J8)","v":0}]
["e-mail address:",null,null,{"$f":"+IF(L9>0,'Team Data'!D9,\"\")","v":""},null,{"$f":"+IF(N9>0,'Team Data'!F9,\"\")","v":""},null,{"$f":"+IF(P9>0,'Team Data'!H9,\"\")","v":""},null,{"$f":"+IF(R9>0,'Team Data'!J9,\"\")","v":""},null,{"$f":"+COUNTA('Team Data'!D9)","v":0},null,{"$f":"+COUNTA('Team Data'!F9)","v":0},null,{"$f":"+COUNTA('Team Data'!H9)","v":0},null,{"$f":"+COUNTA('Team Data'!J9)","v":0}]
["Address"]
[null,"Street #",null,{"$f":"+IF(L11>0,'Team Data'!D11,\"\")","v":""},null,{"$f":"+IF(N11>0,'Team Data'!F11,\"\")","v":""},null,{"$f":"+IF(P11>0,'Team Data'!H11,\"\")","v":""},null,{"$f":"+IF(R11>0,'Team Data'!J11,\"\")","v":""},null,{"$f":"+COUNTA('Team Data'!D11)","v":0},null,{"$f":"+COUNTA('Team Data'!F11)","v":0},null,{"$f":"+COUNTA('Team Data'!H11)","v":0},null,{"$f":"+COUNTA('Team Data'!J11)","v":0}]
[null,"City, State",null,{"$f":"+IF(L12>0,'Team Data'!D12,\"\")","v":""},null,{"$f":"+IF(N12>0,'Team Data'!F12,\"\")","v":""},null,{"$f":"+IF(P12>0,'Team Data'!H12,\"\")","v":""},null,{"$f":"+IF(R12>0,'Team Data'!J12,\"\")","v":""},null,{"$f":"+COUNTA('Team Data'!D12)","v":0},null,{"$f":"+COUNTA('Team Data'!F12)","v":0},null,{"$f":"+COUNTA('Team Data'!H12)","v":0},null,{"$f":"+COUNTA('Team Data'!J12)","v":0}]
[null,"Zipcode",null,{"$f":"+IF(L13>0,'Team Data'!D13,\"\")","v":""},null,{"$f":"+IF(N13>0,'Team Data'!F13,\"\")","v":""},null,{"$f":"+IF(P13>0,'Team Data'!H13,\"\")","v":""},null,{"$f":"+IF(R13>0,'Team Data'!J13,\"\")","v":""},null,{"$f":"+COUNTA('Team Data'!D13)","v":0},null,{"$f":"+COUNTA('Team Data'!F13)","v":0},null,{"$f":"+COUNTA('Team Data'!H13)","v":0},null,{"$f":"+COUNTA('Team Data'!J13)","v":0}]
["Division",null,null,{"$f":"+IF(L14>0,'Team Data'!D14,\"\")","v":""},null,{"$f":"+IF(N14>0,'Team Data'!F14,\"\")","v":""},null,{"$f":"+IF(P14>0,'Team Data'!H14,\"\")","v":""},null,{"$f":"+IF(R14>0,'Team Data'!J14,\"\")","v":""},null,{"$f":"+COUNTA('Team Data'!D14)","v":0},null,{"$f":"+COUNTA('Team Data'!F14)","v":0},null,{"$f":"+COUNTA('Team Data'!H14)","v":0},null,{"$f":"+COUNTA('Team Data'!J14)","v":0}]
["Team Name:",null,null,{"$f":"+IF(L16>0,'Team Data'!D15,\"\")","v":""},null,"Sport:",null,{"$f":"+IF(P16>0,'Team Data'!H15,\"\")","v":""}]
[null,null,null,{"$f":"+IF(L16>0,'Team Data'!D16,\"\")","v":""},null,null,null,{"$f":"+IF(P16>0,'Team Data'!H16,\"\")","v":""},null,null,null,{"$f":"+COUNTA('Team Data'!D15:D16)","v":0},null,null,null,{"$f":"+COUNTA('Team Data'!H15:H16)","v":0}]
[null,null,null,"Team Member Data"]
[null,null,null,"(Include Captain & Co-Captian's Names)"]
[null,"Last Name",null,"First Name",null,"Serial #",null,"Personal E-mail",null,"Division"]
["1)",null,",",null,null,null,null,null,null,null,null,{"$f":"COUNTA(B20:B34,F20:F34,D20:D34,J20:J34)","v":0}]
["2)",null,","]
["3)",null,","]
["4)",null,","]
["5)",null,","]
["6)",null,","]
["7)",null,","]
["8)",null,","]
["9)",null,","]
["10)",null,","]
["11)",null,","]
["12)",null,","]
["13)",null,","]
["14)",null,","]
["15)",null,","]
["For a additional team members, please attach a list of to this form."]

{"sheet":"Additional Team Member Form6","index":7,"n_rows":35,"n_cols":18,"rows_kept":35,"cut":false,"hidden":false,"merged":[[0,0,0,9],[1,0,1,9],[2,0,2,1],[3,1,3,9],[9,0,9,1],[13,0,13,1],[14,0,15,1],[14,3,15,3],[5,0,5,1],[6,0,6,1],[7,0,7,1],[8,0,8,1],[17,3,17,5],[34,0,34,9],[14,5,15,5],[14,7,15,7],[14,9,15,9],[16,3,16,5]]}
["LAPRAAC"]
["BUDGET REQUEST FORM - Team Data"]
["Today's Date:",null,null,{"$f":"+NOW()","v":"2022-03-03T14:57:23.750"},null,"Fiscal Year (July - June):",null,null,null,{"$f":"+IF('Team Data'!J3=0,\"\",'Team Data'!J3)","v":"2022-2023"}]
[null,"Team Profile"]
[null,null,null,"Team Captain:",null,"Co-Captain #1:",null,"Co-Captain #2:",null,"Co-Captain #3:"]
["Name (Last, First)",null,null,{"$f":"+IF(L6>0,'Team Data'!D6,\"\")","v":""},null,{"$f":"+IF(N6>0,'Team Data'!F6,\"\")","v":""},null,{"$f":"+IF(P6>0,'Team Data'!H6,\"\")","v":""},null,{"$f":"+IF(R6>0,'Team Data'!J6,\"\")","v":""},null,{"$f":"+COUNTA('Team Data'!D6)","v":0},null,{"$f":"+COUNTA('Team Data'!F6)","v":0},null,{"$f":"+COUNTA('Team Data'!H6)","v":0},null,{"$f":"+COUNTA('Team Data'!J6)","v":0}]
["Contact Phone #",null,null,{"$f":"+IF(L7>0,'Team Data'!D7,\"\")","v":""},null,{"$f":"+IF(N7>0,'Team Data'!F7,\"\")","v":""},null,{"$f":"+IF(P7>0,'Team Data'!H7,\"\")","v":""},null,{"$f":"+IF(R7>0,'Team Data'!J7,\"\")","v":""},null,{"$f":"+COUNTA('Team Data'!D7)","v":0},null,{"$f":"+COUNTA('Team Data'!F7)","v":0},null,{"$f":"+COUNTA('Team Data'!H7)","v":0},null,{"$f":"+COUNTA('Team Data'!J7)","v":0}]
["Alternate Phone #",null,null,{"$f":"+IF(L8>0,'Team Data'!D8,\"\")","v":""},null,{"$f":"+IF(N8>0,'Team Data'!F8,\"\")","v":""},null,{"$f":"+IF(P8>0,'Team Data'!H8,\"\")","v":""},null,{"$f":"+IF(R8>0,'Team Data'!J8,\"\")","v":""},null,{"$f":"+COUNTA('Team Data'!D8)","v":0},null,{"$f":"+COUNTA('Team Data'!F8)","v":0},null,{"$f":"+COUNTA('Team Data'!H8)","v":0},null,{"$f":"+COUNTA('Team Data'!J8)","v":0}]
["e-mail address:",null,null,{"$f":"+IF(L9>0,'Team Data'!D9,\"\")","v":""},null,{"$f":"+IF(N9>0,'Team Data'!F9,\"\")","v":""},null,{"$f":"+IF(P9>0,'Team Data'!H9,\"\")","v":""},null,{"$f":"+IF(R9>0,'Team Data'!J9,\"\")","v":""},null,{"$f":"+COUNTA('Team Data'!D9)","v":0},null,{"$f":"+COUNTA('Team Data'!F9)","v":0},null,{"$f":"+COUNTA('Team Data'!H9)","v":0},null,{"$f":"+COUNTA('Team Data'!J9)","v":0}]
["Address"]
[null,"Street #",null,{"$f":"+IF(L11>0,'Team Data'!D11,\"\")","v":""},null,{"$f":"+IF(N11>0,'Team Data'!F11,\"\")","v":""},null,{"$f":"+IF(P11>0,'Team Data'!H11,\"\")","v":""},null,{"$f":"+IF(R11>0,'Team Data'!J11,\"\")","v":""},null,{"$f":"+COUNTA('Team Data'!D11)","v":0},null,{"$f":"+COUNTA('Team Data'!F11)","v":0},null,{"$f":"+COUNTA('Team Data'!H11)","v":0},null,{"$f":"+COUNTA('Team Data'!J11)","v":0}]
[null,"City, State",null,{"$f":"+IF(L12>0,'Team Data'!D12,\"\")","v":""},null,{"$f":"+IF(N12>0,'Team Data'!F12,\"\")","v":""},null,{"$f":"+IF(P12>0,'Team Data'!H12,\"\")","v":""},null,{"$f":"+IF(R12>0,'Team Data'!J12,\"\")","v":""},null,{"$f":"+COUNTA('Team Data'!D12)","v":0},null,{"$f":"+COUNTA('Team Data'!F12)","v":0},null,{"$f":"+COUNTA('Team Data'!H12)","v":0},null,{"$f":"+COUNTA('Team Data'!J12)","v":0}]
[null,"Zipcode",null,{"$f":"+IF(L13>0,'Team Data'!D13,\"\")","v":""},null,{"$f":"+IF(N13>0,'Team Data'!F13,\"\")","v":""},null,{"$f":"+IF(P13>0,'Team Data'!H13,\"\")","v":""},null,{"$f":"+IF(R13>0,'Team Data'!J13,\"\")","v":""},null,{"$f":"+COUNTA('Team Data'!D13)","v":0},null,{"$f":"+COUNTA('Team Data'!F13)","v":0},null,{"$f":"+COUNTA('Team Data'!H13)","v":0},null,{"$f":"+COUNTA('Team Data'!J13)","v":0}]
["Division",null,null,{"$f":"+IF(L14>0,'Team Data'!D14,\"\")","v":""},null,{"$f":"+IF(N14>0,'Team Data'!F14,\"\")","v":""},null,{"$f":"+IF(P14>0,'Team Data'!H14,\"\")","v":""},null,{"$f":"+IF(R14>0,'Team Data'!J14,\"\")","v":""},null,{"$f":"+COUNTA('Team Data'!D14)","v":0},null,{"$f":"+COUNTA('Team Data'!F14)","v":0},null,{"$f":"+COUNTA('Team Data'!H14)","v":0},null,{"$f":"+COUNTA('Team Data'!J14)","v":0}]
["Team Name:",null,null,{"$f":"+IF(L16>0,'Team Data'!D15,\"\")","v":""},null,"Sport:",null,{"$f":"+IF(P16>0,'Team Data'!H15,\"\")","v":""}]
[null,null,null,{"$f":"+IF(L16>0,'Team Data'!D16,\"\")","v":""},null,null,null,{"$f":"+IF(P16>0,'Team Data'!H16,\"\")","v":""},null,null,null,{"$f":"+COUNTA('Team Data'!D15:D16)","v":0},null,null,null,{"$f":"+COUNTA('Team Data'!H15:H16)","v":0}]
[null,null,null,"Team Member Data"]
[null,null,null,"(Include Captain & Co-Captian's Names)"]
[null,"Last Name",null,"First Name",null,"Serial #",null,"Personal E-mail",null,"Division"]
["1)",null,",",null,null,null,null,null,null,null,null,{"$f":"COUNTA(B20:B34,F20:F34,D20:D34,J20:J34)","v":0}]
["2)",null,","]
["3)",null,","]
["4)",null,","]
["5)",null,","]
["6)",null,","]
["7)",null,","]
["8)",null,","]
["9)",null,","]
["10)",null,","]
["11)",null,","]
["12)",null,","]
["13)",null,","]
["14)",null,","]
["15)",null,","]
["For a additional team members, please attach a list of to this form."]